BEGIN:VCALENDAR
VERSION:2.0
PRODID:-//Lake Wapogasset Lutheran Bible Camp - ECPv6.15.20//NONSGML v1.0//EN
CALSCALE:GREGORIAN
METHOD:PUBLISH
X-ORIGINAL-URL:https://lakewapo.org
X-WR-CALDESC:Events for Lake Wapogasset Lutheran Bible Camp
REFRESH-INTERVAL;VALUE=DURATION:PT1H
X-Robots-Tag:noindex
X-PUBLISHED-TTL:PT1H
BEGIN:VTIMEZONE
TZID:America/Chicago
BEGIN:DAYLIGHT
TZOFFSETFROM:-0600
TZOFFSETTO:-0500
TZNAME:CDT
DTSTART:20200308T080000
END:DAYLIGHT
BEGIN:STANDARD
TZOFFSETFROM:-0500
TZOFFSETTO:-0600
TZNAME:CST
DTSTART:20201101T070000
END:STANDARD
BEGIN:DAYLIGHT
TZOFFSETFROM:-0600
TZOFFSETTO:-0500
TZNAME:CDT
DTSTART:20210314T080000
END:DAYLIGHT
BEGIN:STANDARD
TZOFFSETFROM:-0500
TZOFFSETTO:-0600
TZNAME:CST
DTSTART:20211107T070000
END:STANDARD
BEGIN:DAYLIGHT
TZOFFSETFROM:-0600
TZOFFSETTO:-0500
TZNAME:CDT
DTSTART:20220313T080000
END:DAYLIGHT
BEGIN:STANDARD
TZOFFSETFROM:-0500
TZOFFSETTO:-0600
TZNAME:CST
DTSTART:20221106T070000
END:STANDARD
BEGIN:DAYLIGHT
TZOFFSETFROM:-0600
TZOFFSETTO:-0500
TZNAME:CDT
DTSTART:20230312T080000
END:DAYLIGHT
BEGIN:STANDARD
TZOFFSETFROM:-0500
TZOFFSETTO:-0600
TZNAME:CST
DTSTART:20231105T070000
END:STANDARD
END:VTIMEZONE
BEGIN:VEVENT
DTSTART;TZID=America/Chicago:20221025T110000
DTEND;TZID=America/Chicago:20221025T130000
DTSTAMP:20260423T171537
CREATED:20220927T195334Z
LAST-MODIFIED:20220927T195334Z
UID:20931-1666695600-1666702800@lakewapo.org
SUMMARY:2023 Summer Camp Kick-Off Event
DESCRIPTION:Calling all Ministry Partners\, Youth Workers and Group Leaders – Please join us for… \n2023 Summer Camp Kick-Off Event\nOctober 25\, 2022 \nSt Philip the Deacon\, 17205 Cty Rd 6\, Plymouth MN 55447 \n11:00am-1:00pm \nMore details can be found here and we asking for your RSVP by October 7th. \nQuestions? suzio@campwapo.org or 715-268-8434 \n 
URL:https://lakewapo.org/event/2023-summer-camp-kick-off-event/
LOCATION:St Philip the Deacon\, 17205 County Rd 6\, Plymouth\, MN\, 55447
CATEGORIES:Camp Wapo,Ox Lake,Wilderness Canoe Base
ATTACH;FMTTYPE=image/jpeg:https://lakewapo.org/wp-content/uploads/2022/07/DSC_0240-scaled.jpg
END:VEVENT
BEGIN:VEVENT
DTSTART;TZID=America/Chicago:20220814T100000
DTEND;TZID=America/Chicago:20220814T110000
DTSTAMP:20260423T171537
CREATED:20220422T213336Z
LAST-MODIFIED:20220422T213336Z
UID:19423-1660471200-1660474800@lakewapo.org
SUMMARY:Worship at Wilderness Canoe Base
DESCRIPTION:You are invited to join us at Wilderness Canoe Base for Sunday morning worship. Worship will begin at 10:00am and is held in our beautiful open air chapel – so dress for the weather! \nPontoons will start running from the Cove to the island at 9:30am. \nIf you have any questions please email wcboffice@campwapo.org or call 218-388-2241. \n 
URL:https://lakewapo.org/event/worship-at-wilderness-canoe-base-7/
LOCATION:Wilderness Canoe Base\, 12477 Gunflint Trail\, Grand Marais\, MN\, 55604\, United States
CATEGORIES:Wilderness Canoe Base
ATTACH;FMTTYPE=image/jpeg:https://lakewapo.org/wp-content/uploads/2021/09/Worship-Music-scaled.jpg
END:VEVENT
BEGIN:VEVENT
DTSTART;TZID=America/Chicago:20220807T100000
DTEND;TZID=America/Chicago:20220807T110000
DTSTAMP:20260423T171537
CREATED:20220422T213212Z
LAST-MODIFIED:20220422T213212Z
UID:19421-1659866400-1659870000@lakewapo.org
SUMMARY:Worship at Wilderness Canoe Base
DESCRIPTION:You are invited to join us at Wilderness Canoe Base for Sunday morning worship. Worship will begin at 10:00am and is held in our beautiful open air chapel – so dress for the weather! \nPontoons will start running from the Cove to the island at 9:30am. \nIf you have any questions please email wcboffice@campwapo.org or call 218-388-2241. \n 
URL:https://lakewapo.org/event/worship-at-wilderness-canoe-base-6/
LOCATION:Wilderness Canoe Base\, 12477 Gunflint Trail\, Grand Marais\, MN\, 55604\, United States
CATEGORIES:Wilderness Canoe Base
ATTACH;FMTTYPE=image/jpeg:https://lakewapo.org/wp-content/uploads/2021/09/Worship-Music-scaled.jpg
END:VEVENT
BEGIN:VEVENT
DTSTART;TZID=America/Chicago:20220731T100000
DTEND;TZID=America/Chicago:20220731T110000
DTSTAMP:20260423T171537
CREATED:20220422T213023Z
LAST-MODIFIED:20220422T213515Z
UID:19417-1659261600-1659265200@lakewapo.org
SUMMARY:Worship at Wilderness Canoe Base
DESCRIPTION:You are invited to join us at Wilderness Canoe Base for Sunday morning worship. Worship will begin at 10:00am and is held in our beautiful open air chapel – so dress for the weather! \nPontoons will start running from the Cove to the island at 9:30am. \nIf you have any questions please email wcboffice@campwapo.org or call 218-388-2241. \n 
URL:https://lakewapo.org/event/worship-at-wilderness-canoe-base-5/
LOCATION:Wilderness Canoe Base\, 12477 Gunflint Trail\, Grand Marais\, MN\, 55604\, United States
CATEGORIES:Wilderness Canoe Base
ATTACH;FMTTYPE=image/jpeg:https://lakewapo.org/wp-content/uploads/2021/09/Worship-Music-scaled.jpg
END:VEVENT
BEGIN:VEVENT
DTSTART;TZID=America/Chicago:20220724T100000
DTEND;TZID=America/Chicago:20220724T110000
DTSTAMP:20260423T171537
CREATED:20220422T213749Z
LAST-MODIFIED:20220422T213749Z
UID:19429-1658656800-1658660400@lakewapo.org
SUMMARY:Worship at Wilderness Canoe Base
DESCRIPTION:You are invited to join us at Wilderness Canoe Base for Sunday morning worship. Worship will begin at 10:00am and is held in our beautiful open air chapel – so dress for the weather! \nPontoons will start running from the Cove to the island at 9:30am. \nIf you have any questions please email wcboffice@campwapo.org or call 218-388-2241. \n 
URL:https://lakewapo.org/event/worship-at-wilderness-canoe-base-8/
LOCATION:Wilderness Canoe Base\, 12477 Gunflint Trail\, Grand Marais\, MN\, 55604\, United States
CATEGORIES:Wilderness Canoe Base
ATTACH;FMTTYPE=image/jpeg:https://lakewapo.org/wp-content/uploads/2021/09/Worship-Music-scaled.jpg
END:VEVENT
BEGIN:VEVENT
DTSTART;TZID=America/Chicago:20220717T100000
DTEND;TZID=America/Chicago:20220717T110000
DTSTAMP:20260423T171537
CREATED:20220422T212859Z
LAST-MODIFIED:20220422T213833Z
UID:19415-1658052000-1658055600@lakewapo.org
SUMMARY:Worship at Wilderness Canoe Base
DESCRIPTION:You are invited to join us at Wilderness Canoe Base for Sunday morning worship. Worship will begin at 10:00am and is held in our beautiful open air chapel – so dress for the weather! \nPontoons will start running from the Cove to the island at 9:30am. \nIf you have any questions please email wcboffice@campwapo.org or call 218-388-2241. \n 
URL:https://lakewapo.org/event/worship-at-wilderness-canoe-base-4/
LOCATION:Wilderness Canoe Base\, 12477 Gunflint Trail\, Grand Marais\, MN\, 55604\, United States
CATEGORIES:Wilderness Canoe Base
ATTACH;FMTTYPE=image/jpeg:https://lakewapo.org/wp-content/uploads/2021/09/Worship-Music-scaled.jpg
END:VEVENT
BEGIN:VEVENT
DTSTART;TZID=America/Chicago:20220710T100000
DTEND;TZID=America/Chicago:20220710T110000
DTSTAMP:20260423T171537
CREATED:20220422T212620Z
LAST-MODIFIED:20220422T212620Z
UID:19412-1657447200-1657450800@lakewapo.org
SUMMARY:Worship at Wilderness Canoe Base
DESCRIPTION:You are invited to join us at Wilderness Canoe Base for Sunday morning worship. Worship will begin at 10:00am and is held in our beautiful open air chapel – so dress for the weather! \nPontoons will start running from the Cove to the island at 9:30am. \nIf you have any questions please email wcboffice@campwapo.org or call 218-388-2241. \n 
URL:https://lakewapo.org/event/worship-at-wilderness-canoe-base-3/
LOCATION:Wilderness Canoe Base\, 12477 Gunflint Trail\, Grand Marais\, MN\, 55604\, United States
CATEGORIES:Wilderness Canoe Base
ATTACH;FMTTYPE=image/jpeg:https://lakewapo.org/wp-content/uploads/2021/09/Worship-Music-scaled.jpg
END:VEVENT
BEGIN:VEVENT
DTSTART;TZID=America/Chicago:20220626T100000
DTEND;TZID=America/Chicago:20220626T110000
DTSTAMP:20260423T171537
CREATED:20220422T212444Z
LAST-MODIFIED:20220422T213422Z
UID:19409-1656237600-1656241200@lakewapo.org
SUMMARY:Worship at Wilderness Canoe Base
DESCRIPTION:You are invited to join us at Wilderness Canoe Base for Sunday morning worship. Worship will begin at 10:00am and is held in our beautiful open air chapel – so dress for the weather! \nPontoons will start running from the Cove to the island at 9:30am. \nIf you have any questions please email wcboffice@campwapo.org or call 218-388-2241. \n 
URL:https://lakewapo.org/event/worship-at-wilderness-canoe-base-2/
LOCATION:Wilderness Canoe Base\, 12477 Gunflint Trail\, Grand Marais\, MN\, 55604\, United States
CATEGORIES:Wilderness Canoe Base
ATTACH;FMTTYPE=image/jpeg:https://lakewapo.org/wp-content/uploads/2021/09/Worship-Music-scaled.jpg
END:VEVENT
BEGIN:VEVENT
DTSTART;TZID=America/Chicago:20220619T100000
DTEND;TZID=America/Chicago:20220619T110000
DTSTAMP:20260423T171537
CREATED:20220422T212129Z
LAST-MODIFIED:20220422T212151Z
UID:19405-1655632800-1655636400@lakewapo.org
SUMMARY:Worship at Wilderness Canoe Base
DESCRIPTION:You are invited to join us at Wilderness Canoe Base for Sunday morning worship. Worship will begin at 10:00am and is held in our beautiful open air chapel – so dress for the weather! \nPontoons will start running from the Cove to the island at 9:30am. \nIf you have any questions please email wcboffice@campwapo.org or call 218-388-2241. \n 
URL:https://lakewapo.org/event/worship-at-wilderness-canoe-base/
LOCATION:Wilderness Canoe Base\, 12477 Gunflint Trail\, Grand Marais\, MN\, 55604\, United States
CATEGORIES:Wilderness Canoe Base
ATTACH;FMTTYPE=image/jpeg:https://lakewapo.org/wp-content/uploads/2021/09/Worship-Music-scaled.jpg
END:VEVENT
BEGIN:VEVENT
DTSTART;TZID=America/Chicago:20220224T153000
DTEND;TZID=America/Chicago:20220227T103000
DTSTAMP:20260423T171537
CREATED:20211230T193055Z
LAST-MODIFIED:20220615T214112Z
UID:18918-1645716600-1645957800@lakewapo.org
SUMMARY:WCB Creator's Retreat
DESCRIPTION:Join our annual gathering of artists\, writers\, musicians\, crafters\, and creators of all kinds! You can spend time working on your own projects\, getting feedback from other creative folks\, learning from our scheduled presenters\, and getting outside to explore the winter northwoods.  \nOur theme for 2022 is “Voices.” Artists share their voices in everything they create. The time you spend on this retreat will allow you to slow down\, to better hear your authentic inner voice. As we gather together\, you will also have the honor of truly hearing the distinct and rich voices of others. \nOur scheduled presenters will be announced soon so stay tuned! \nRegistration link: click here
URL:https://lakewapo.org/event/wcb-creators-retreat/
LOCATION:Wilderness Canoe Base\, 12477 Gunflint Trail\, Grand Marais\, MN\, 55604\, United States
CATEGORIES:Wilderness Canoe Base
ATTACH;FMTTYPE=image/jpeg:https://lakewapo.org/wp-content/uploads/2020/10/Featured-Photos-for-Wordpress-3.jpg
END:VEVENT
BEGIN:VEVENT
DTSTART;TZID=America/Chicago:20220203T153000
DTEND;TZID=America/Chicago:20220206T100000
DTSTAMP:20260423T171537
CREATED:20211230T193704Z
LAST-MODIFIED:20220615T214123Z
UID:18921-1643902200-1644141600@lakewapo.org
SUMMARY:WCB Men's Winter Retreat
DESCRIPTION:Enjoy the opportunity to explore the wilderness in the winter.  Activities available include skiing\, snowshoeing\, broomball\, quinzee-building\, and of course\, plenty of time to spend inside our cozy cabins next to the fireplace! \nRegistration link: click here
URL:https://lakewapo.org/event/wcb-mens-winter-retreat/
LOCATION:Wilderness Canoe Base\, 12477 Gunflint Trail\, Grand Marais\, MN\, 55604\, United States
CATEGORIES:Wilderness Canoe Base
ATTACH;FMTTYPE=image/jpeg:https://lakewapo.org/wp-content/uploads/2020/10/Featured-Photos-for-Wordpress-2.jpg
END:VEVENT
BEGIN:VEVENT
DTSTART;TZID=America/Chicago:20220120T160000
DTEND;TZID=America/Chicago:20220123T100000
DTSTAMP:20260423T171537
CREATED:20211130T221017Z
LAST-MODIFIED:20211130T222239Z
UID:18793-1642694400-1642932000@lakewapo.org
SUMMARY:Winter Family Getaways at WCB
DESCRIPTION:We are thrilled to extend our Family Getaways program into the winter season! Family Getaways are an opportunity for families or small groups to stay in one of our island cabins\, enjoy homecooked meals prepared by the WCB kitchen\, and explore the Boundary Waters! Our winter guests can borrow skis\, snowshoes\, and broomball equipment to make the most of what winter has to offer. \nAvailable dates: January 20 to 23\, 2022 \n*more dates may become available \nPricing per cabin: $650 for the weekend for 2 people\, plus $100 per additional person \nIf you are interested in a Family Getaway cabin stay\, please get in touch with us at wcboffice@campwapo.org or (218) 388-2241. \nNote: our Covid-19 guidelines can be found by clicking here.
URL:https://lakewapo.org/event/winter-family-getaways-at-wcb/
LOCATION:Wilderness Canoe Base\, 12477 Gunflint Trail\, Grand Marais\, MN\, 55604\, United States
CATEGORIES:Wilderness Canoe Base
ATTACH;FMTTYPE=image/png:https://lakewapo.org/wp-content/uploads/2021/11/Untitled-design-8.png
ORGANIZER;CN="Wilderness Canoe Base":MAILTO:wcboffice@campwapo.org
END:VEVENT
BEGIN:VEVENT
DTSTART;VALUE=DATE:20211118
DTEND;VALUE=DATE:20211119
DTSTAMP:20260423T171537
CREATED:20211104T150014Z
LAST-MODIFIED:20211104T150844Z
UID:18697-1637193600-1637279999@lakewapo.org
SUMMARY:Give to the Max 2021
DESCRIPTION:Wilderness Canoe Base is excited to share news of a $40\,000 matching challenge!  Between now and the end of the year (or\, until we reach our $40\,000 goal)\, any gift you make to Wilderness Canoe Base will be matched dollar-for-dollar.  What better way to honor and support Wilderness Canoe Base than to double your gift to support this important ministry! \n  \nBe on the lookout for more information and posts in the coming weeks about Give to the Max Day on Thursday\, November 18 – which will be our first effort to raise those matching funds.  You can make a gift on our website or on the Give to the Max page.  Either option will go to support this match\, and both options come with only minimal administrative fees.  If you would like to make a gift of stock\, IRA distribution\, or would like to give from your charitable gift annuity\, please be in touch with Nate (nathanb@campwapo.org) to learn more. \n  \nWilderness Canoe Base is transformational.  Your gift(s) to support this ministry allow for transformation to happen.  Join us in raising important funds for this important work.
URL:https://lakewapo.org/event/give-to-the-max-2021/
LOCATION:MN
CATEGORIES:Wilderness Canoe Base
ATTACH;FMTTYPE=image/png:https://lakewapo.org/wp-content/uploads/2021/11/Untitled-design-4-e1636038484972.png
ORGANIZER;CN="Wilderness Canoe Base":MAILTO:wcboffice@campwapo.org
END:VEVENT
BEGIN:VEVENT
DTSTART;VALUE=DATE:20210812
DTEND;VALUE=DATE:20211002
DTSTAMP:20260423T171537
CREATED:20210312T180915Z
LAST-MODIFIED:20210805T134011Z
UID:15743-1628726400-1633132799@lakewapo.org
SUMMARY:Family Getaways
DESCRIPTION:Wilderness is offering opportunities for families and other small groups to come up to experience the woods\, connect with WCB\, and stay in a private cabin\, all in a safe and socially distanced manner. \nFamily Getaways provide ample free time to enjoy the Northwoods with your group\, along with some opportunities for support from our staff each day (lifeguarded waterfront times\, guided paddles\, nature hikes\, etc.). Additionally\, Just Love programming will be offered for families to explore together. Meals are included and will be offered in “take out” style. \nRates: The cost is $600/cabin for 3 nights. For groups of more than 2 people\, there is an additional cost of $100/person. Available cabins include: Birch Yurt\, Red Pine Yurt\, Selah\, Listening Point\, *Stillwater\, and Arthur. (*Stillwater is priced per room due to its size). \nDates: Each family getaway is available for reservation by the weekend\, with Thursday afternoon arrivals and Sunday morning departures. \nAvailable weekends:\nAugust 12-15\nAugust 18-21 (note that this is Wed-Sat)\nSeptember 23-26\nSept 30 – Oct 1 \nPlease email wcboffice@campwapo.org or call 218-388-2241 with questions or to reserve a spot! \nFall Covid-19 Protocols
URL:https://lakewapo.org/event/family-getaways/
LOCATION:Wilderness Canoe Base\, 12477 Gunflint Trail\, Grand Marais\, MN\, 55604\, United States
CATEGORIES:Wilderness Canoe Base
ATTACH;FMTTYPE=image/jpeg:https://lakewapo.org/wp-content/uploads/2020/12/wilderness-facilities-2.jpg
ORGANIZER;CN="Wilderness Canoe Base":MAILTO:wcboffice@campwapo.org
END:VEVENT
BEGIN:VEVENT
DTSTART;TZID=America/Chicago:20210807T100000
DTEND;TZID=America/Chicago:20210807T140000
DTSTAMP:20260423T171537
CREATED:20210708T230654Z
LAST-MODIFIED:20210729T140344Z
UID:17024-1628330400-1628344800@lakewapo.org
SUMMARY:Donor & Volunteer Appreciation Day
DESCRIPTION:We are incredibly grateful for the donors and volunteers who have faithfully supported Camp Wapo\, Ox Lake and Wilderness Canoe Base\, especially through this pandemic time.  We simply could not have sustained this ministry without you.  Your gifts helped us through a complete closure and cancellation of all programs and retreats for a full year.  Your gifts helped us prepare for a much anticipated and long-awaited for 2021 summer camp season.  Your gifts are supporting an incredible summer staff at Wapo\, Ox and Wilderness – these young adults are outstanding!  Your gifts have brought CAMPERS\,  laughter\, praising\, singing\, field games\, paddling\, campfires\, and so much more back to our sites. \nIt’s time to gather and celebrate!  We hope you can join us for this special THANK YOU event.  The event will be held at Camp Wapo to honor all of our Wapo\, Ox Lake and Wilderness Canoe Base donors and volunteers.  You are welcome to come anytime between 10:00 and 2:00 for an open house.  We will offer tours of camp and you can get a sneak peek at the building project at Wapo.  Building during covid has presented its share of challenges that have slowed progress significantly (supplies\, workforce\, delivery delays\, etc.)\, but you’ll still get a good idea of what the finished project will look like. \nA picnic lunch will be served between 11:00am-1:00pm.   Bring your family and friends! \nTo help us plan for food\, please RSVP by August 3rd.
URL:https://lakewapo.org/event/donor-volunteer-appreciation-day/
LOCATION:Camp Wapo\, 1204 74th Ave\, Amery\, WI\, 54001\, United States
CATEGORIES:Camp Wapo,Ox Lake,Wilderness Canoe Base
ATTACH;FMTTYPE=image/png:https://lakewapo.org/wp-content/uploads/2020/12/cropped-wapo-favicon_Primary-Mark.png
END:VEVENT
BEGIN:VEVENT
DTSTART;TZID=America/Chicago:20210620T000000
DTEND;TZID=America/Chicago:20210808T000000
DTSTAMP:20260423T171537
CREATED:20210507T222750Z
LAST-MODIFIED:20210507T223119Z
UID:16026-1624147200-1628380800@lakewapo.org
SUMMARY:Outdoor Worship at Wilderness
DESCRIPTION:Join us for worship in our outdoor chapel on select Sundays this summer! Services will begin at 10:30 AM and pontoons will be available to take guests from the Cove to the chapel beginning at 10:00 AM. Please sign up at the link below if you plan on attending\, or give camp a call at (218) 388-2241. While we won’t be offering our usual post-worship brunch\, we hope to have tasty “grab and go” snacks after the service! \nWorship Dates \nJune 20 (sign up) \nJune 27 (sign up) \nJuly 11 (sign up) \nJuly 18 (sign up) \nJuly 25 (sign up) \nAugust 1 (sign up) \nAugust 8 (sign up) \n*Note that there is no worship on July 4th
URL:https://lakewapo.org/event/outdoor-worship-at-wilderness/
LOCATION:Wilderness Canoe Base\, 12477 Gunflint Trail\, Grand Marais\, MN\, 55604\, United States
CATEGORIES:Wilderness Canoe Base
ATTACH;FMTTYPE=image/jpeg:https://lakewapo.org/wp-content/uploads/2021/05/DSC8590.jpg
ORGANIZER;CN="Wilderness Canoe Base":MAILTO:wcboffice@campwapo.org
END:VEVENT
BEGIN:VEVENT
DTSTART;TZID=America/Chicago:20210320T090000
DTEND;TZID=America/Chicago:20210320T153000
DTSTAMP:20260423T171537
CREATED:20210226T211030Z
LAST-MODIFIED:20210307T225358Z
UID:15584-1616230800-1616254200@lakewapo.org
SUMMARY:Creators' Retreat
DESCRIPTION:Our annual Creators’ Retreat is going virtual! As an uplifting antidote to these pandemic times\, this year’s theme is “PLAY.” You are invited to get creative\, experiment with artistic methods you may have never tried before\, and have fun alongside other creative folks. The retreat will be in two sessions on Saturday\, March 20th; come to both or just one. Each session will feature two WCB artists/creators who will share a bit about their medium and process\, as well as lead the group through a PLAYful\, simple activity. Featured presenters include; Lorissa Gottschalk O’Brien (writing)\, Katie Malcom (collage)\, Olivia Bain (visual art)\, and Kristin Middlesworth & Kate Kinkade (hand lettering). \n\nNo prior artistic experience is required\, and materials are minimal\nKids are welcome\nThere is no cost to attend\, but donations to help cover the lost revenue from the in-person retreat are welcome\nZoom link to attend will be emailed to all registered participants\n\nSession 1: 9:00 am to 11:30 am \nSession 2: 1:00 pm to 3:30 pm \nRegister online by clicking here \nDonations can be made by clicking here
URL:https://lakewapo.org/event/creators-retreat/
LOCATION:Virtual Event
CATEGORIES:Wilderness Canoe Base
ATTACH;FMTTYPE=image/png:https://lakewapo.org/wp-content/uploads/2021/02/Join-us-to-gather-create-learn-relax-and-play.png
ORGANIZER;CN="Wilderness Canoe Base":MAILTO:wcboffice@campwapo.org
END:VEVENT
BEGIN:VEVENT
DTSTART;TZID=America/Chicago:20210228T140000
DTEND;TZID=America/Chicago:20210228T150000
DTSTAMP:20260423T171537
CREATED:20210126T192536Z
LAST-MODIFIED:20210126T193013Z
UID:15308-1614520800-1614524400@lakewapo.org
SUMMARY:LWLBC Annual Meeting
DESCRIPTION:It’s been almost a year since we gathered IN PERSON for our Annual Delegate Meeting at Roseville Lutheran. It is hard to believe it was just a year ago – my how things have changed. \nWhile we can’t gather in person this year\, we can gather online.  Even after an unpredictable year of cancellations\, postponements\, and altered events we have so much to celebrate. \nAnyone can attend the LWLBC delegate annual meeting but only congregational delegates have voting rights to elect new members to the LWLBC Board of Directors. \nIf you would like to attend the LWLBC Annual Delegate meeting\, please email jenh@campwapo.org. The meeting is only available via pre-registration.
URL:https://lakewapo.org/event/lwlbc-annual-meeting/
LOCATION:MN
CATEGORIES:Camp Wapo,Ox Lake,Wilderness Canoe Base
ATTACH;FMTTYPE=image/png:https://lakewapo.org/wp-content/uploads/2020/12/cropped-wapo-favicon_Primary-Mark.png
END:VEVENT
BEGIN:VEVENT
DTSTART;VALUE=DATE:20210106
DTEND;VALUE=DATE:20210308
DTSTAMP:20260423T171537
CREATED:20201201T205216Z
LAST-MODIFIED:20201210T180210Z
UID:1078-1609891200-1615161599@lakewapo.org
SUMMARY:Winter Ledge Retreats
DESCRIPTION:The Ledge Cabin is available for use at Wilderness Canoe Base for solo or family retreats this winter. Come rest\, explore\, and/or work (wifi is available in this cabin) in the northwoods of Minnesota! \nWhether you are looking for time to disconnect\, or you are looking for a new place to do work and/or e-learning\, come visit our cozy little Ledge Cabin and enjoy some time at Wilderness Canoe Base these next few wintery months. We ask for a minimum stay of 3 nights\, but we are happy to have conversations about how long you would like to stay on site beyond that. \nRate: $200/night \nIf your group is more than 4 people\, it is an additional $25/night for each additional person. Maximum occupancy is 6 people total. \nDates: The Ledge Cabin is available from January 6 – March 7 \nAvailability for dates within this timeframe is scheduled upon request\, on a first-come\, first-serve basis. To book your stay or check on availability\, reach out to the Wilderness Canoe Base office. Minimum stay is 3 nights. \nWhat is included: Ledge will be cleaned and sanitized before your arrival. Staff will be on-site in case of emergency\, but what you do throughout your stay will be entirely up to you. Food and meals will not be provided (though Ledge has a complete kitchen). Snowshoes are available upon request ahead of time. \nLedge Amenities: \n\n1 double bed\, 2 single beds\, 1 double bed pullout couch\nElectric heat\nWifi (available in the cabin)\nComplete kitchen with refrigerator and freezer\, stove\, oven\, microwave\, coffee maker (as well as pots\, pans\, dishes\, silverware\, etc.)\, bathroom\, living room\n\nPlease email wcboffice@campwapo.org or call 218-388-2241 to ask questions or reserve your stay.
URL:https://lakewapo.org/event/winter-ledge-retreats/
LOCATION:Wilderness Canoe Base\, 12477 Gunflint Trail\, Grand Marais\, MN\, 55604\, United States
CATEGORIES:Wilderness Canoe Base
ATTACH;FMTTYPE=image/jpeg:https://lakewapo.org/wp-content/uploads/2020/12/ledge.jpg
ORGANIZER;CN="Wilderness Canoe Base":MAILTO:wcboffice@campwapo.org
END:VEVENT
BEGIN:VEVENT
DTSTART;VALUE=DATE:20210103
DTEND;VALUE=DATE:20210104
DTSTAMP:20260423T171537
CREATED:20201201T200533Z
LAST-MODIFIED:20201210T180210Z
UID:1031-1609632000-1609718399@lakewapo.org
SUMMARY:Wilderness in the Cities
DESCRIPTION:Want to reconnect with friends from Wilderness Canoe Base? Or maybe you just want to learn more about Wilderness Canoe Base? Looking for a caring community to be in the Word and in fellowship with? Then (Virtual) Wilderness in the Cities is for you. All are welcome and belong here. Join us on the first Sunday of every month! Contact wcboffice@campwapo.org for the Zoom link.
URL:https://lakewapo.org/event/wilderness-in-the-cities/
LOCATION:Virtual Event
CATEGORIES:Wilderness Canoe Base
ATTACH;FMTTYPE=image/png:https://lakewapo.org/wp-content/uploads/2020/12/wcb-in-cities.png
ORGANIZER;CN="Wilderness Canoe Base":MAILTO:wcboffice@campwapo.org
END:VEVENT
END:VCALENDAR