BEGIN:VCALENDAR
VERSION:2.0
PRODID:-//Lake Wapogasset Lutheran Bible Camp - ECPv6.15.20//NONSGML v1.0//EN
CALSCALE:GREGORIAN
METHOD:PUBLISH
X-WR-CALNAME:Lake Wapogasset Lutheran Bible Camp
X-ORIGINAL-URL:https://lakewapo.org
X-WR-CALDESC:Events for Lake Wapogasset Lutheran Bible Camp
REFRESH-INTERVAL;VALUE=DURATION:PT1H
X-Robots-Tag:noindex
X-PUBLISHED-TTL:PT1H
BEGIN:VTIMEZONE
TZID:America/Chicago
BEGIN:DAYLIGHT
TZOFFSETFROM:-0600
TZOFFSETTO:-0500
TZNAME:CDT
DTSTART:20250309T080000
END:DAYLIGHT
BEGIN:STANDARD
TZOFFSETFROM:-0500
TZOFFSETTO:-0600
TZNAME:CST
DTSTART:20251102T070000
END:STANDARD
BEGIN:DAYLIGHT
TZOFFSETFROM:-0600
TZOFFSETTO:-0500
TZNAME:CDT
DTSTART:20260308T080000
END:DAYLIGHT
BEGIN:STANDARD
TZOFFSETFROM:-0500
TZOFFSETTO:-0600
TZNAME:CST
DTSTART:20261101T070000
END:STANDARD
BEGIN:DAYLIGHT
TZOFFSETFROM:-0600
TZOFFSETTO:-0500
TZNAME:CDT
DTSTART:20270314T080000
END:DAYLIGHT
BEGIN:STANDARD
TZOFFSETFROM:-0500
TZOFFSETTO:-0600
TZNAME:CST
DTSTART:20271107T070000
END:STANDARD
END:VTIMEZONE
BEGIN:VEVENT
DTSTART;TZID=America/Chicago:20260618T160000
DTEND;TZID=America/Chicago:20260621T120000
DTSTAMP:20260423T184552
CREATED:20251209T205458Z
LAST-MODIFIED:20260327T203755Z
UID:28740-1781798400-1782043200@lakewapo.org
SUMMARY:WCB Alumni Weekend and Anniversary Worship Service
DESCRIPTION:In 2026\, Wilderness Canoe Base is Celebrating 70 years of Outdoor Ministry. In honor of all who have served and loved this place that has touched the lives of so many\, we will be hosting a few events in 2026. \nPlease take a moment to share your Wilderness story here.  \nPurchase your WCB 70th Anniversary gear here. Items can be picked up at WCB June 18-21 or shipped to you after 6/22. Please read the descriptions carefully when choosing. \nAlumni Weekend\nJune 18-21\, 2026  (includes the worship service) \nThere is space available at camp or you can stay somewhere nearby (see below) and come to camp for daily programming.  There are several registration options available for the weekend\, including full-weekend\, partial-weekend\, and commuter options\, so you can choose what works best for you. Registration for the Alumni weekend is available here. \nIf you plan to stay elsewhere\, please register for the commuter option(s) so we can plan meals and programming accordingly. For those needing housing in the area\, consider a reservation at one of the nearby state parks (Tettegouche\, Temperance River\, Cascade)\, or at a campground on the Gunflint Trail (Two Island Lake\, East Bearskin\, Flour Lake\, Irone Lake\, Trails End) at the recreation.gov website. Accommocations may also be available at one of the Gunflint Trail Resorts (Trout Lake Resort\, Bearskin Lodge\, Hungry Jack Lodge\, Norwester\, Poplar Haus\, White Pine Lodge\, Gunflint Lodge\, etc) \nAnniversary Worship Service\nSunday\, June 21\, 2026 \n9:30 am pontoon rides start from the Cove \n10:00 am Worship at the Chapel \nTo help us in our planning\, please register for the Sunday commuter option. \nTwin Cities WCB Gathering\nSaturday\, October 24\, 2026 \nJoin Alumni and Friends at Roseville Lutheran 5:00-9:00pm. To help us in our planning\, please RSVP here.
URL:https://lakewapo.org/event/wcb-alumni-weekend-and-anniversary-worship-service/
LOCATION:Wilderness Canoe Base\, 12477 Gunflint Trail\, Grand Marais\, MN\, 55604\, United States
CATEGORIES:Wilderness Canoe Base
ATTACH;FMTTYPE=image/png:https://lakewapo.org/wp-content/uploads/2025/12/save-the-date-wcb-1-e1773948473993.png
END:VEVENT
END:VCALENDAR