BEGIN:VCALENDAR
VERSION:2.0
PRODID:-//Lake Wapogasset Lutheran Bible Camp - ECPv6.15.20//NONSGML v1.0//EN
CALSCALE:GREGORIAN
METHOD:PUBLISH
X-WR-CALNAME:Lake Wapogasset Lutheran Bible Camp
X-ORIGINAL-URL:https://lakewapo.org
X-WR-CALDESC:Events for Lake Wapogasset Lutheran Bible Camp
REFRESH-INTERVAL;VALUE=DURATION:PT1H
X-Robots-Tag:noindex
X-PUBLISHED-TTL:PT1H
BEGIN:VTIMEZONE
TZID:America/Chicago
BEGIN:DAYLIGHT
TZOFFSETFROM:-0600
TZOFFSETTO:-0500
TZNAME:CDT
DTSTART:20220313T080000
END:DAYLIGHT
BEGIN:STANDARD
TZOFFSETFROM:-0500
TZOFFSETTO:-0600
TZNAME:CST
DTSTART:20221106T070000
END:STANDARD
BEGIN:DAYLIGHT
TZOFFSETFROM:-0600
TZOFFSETTO:-0500
TZNAME:CDT
DTSTART:20230312T080000
END:DAYLIGHT
BEGIN:STANDARD
TZOFFSETFROM:-0500
TZOFFSETTO:-0600
TZNAME:CST
DTSTART:20231105T070000
END:STANDARD
BEGIN:DAYLIGHT
TZOFFSETFROM:-0600
TZOFFSETTO:-0500
TZNAME:CDT
DTSTART:20240310T080000
END:DAYLIGHT
BEGIN:STANDARD
TZOFFSETFROM:-0500
TZOFFSETTO:-0600
TZNAME:CST
DTSTART:20241103T070000
END:STANDARD
END:VTIMEZONE
BEGIN:VEVENT
DTSTART;TZID=America/Chicago:20230716T100000
DTEND;TZID=America/Chicago:20230716T110000
DTSTAMP:20260425T223407
CREATED:20230523T203801Z
LAST-MODIFIED:20230523T204218Z
UID:21897-1689501600-1689505200@lakewapo.org
SUMMARY:Wilderness Canoe Base Summer Worship
DESCRIPTION:If you are in the Grand Marais\, MN area this summer – please join us for worship at Wilderness Canoe Base! \nYou can catch a pontoon ride from the Cove to the Island starting at 9:30am. If you have any questions\, please call the camp office 218-388-2241 or email wcboffice@campwapo.org. \nWe’ll gather in the Band of Brothers chapel at 10:00am for worship.   \n2023 Worship Schedule – June 18\, 25\, July 9\, 16\, 23\, 30\, August 6
URL:https://lakewapo.org/event/wilderness-canoe-base-summer-worship-4/
LOCATION:Wilderness Canoe Base\, 12477 Gunflint Trail\, Grand Marais\, MN\, 55604\, United States
CATEGORIES:Wilderness Canoe Base
ATTACH;FMTTYPE=image/jpeg:https://lakewapo.org/wp-content/uploads/2022/01/DSC_0790-scaled.jpeg
END:VEVENT
END:VCALENDAR