BEGIN:VCALENDAR
VERSION:2.0
PRODID:-//Lake Wapogasset Lutheran Bible Camp - ECPv6.15.20//NONSGML v1.0//EN
CALSCALE:GREGORIAN
METHOD:PUBLISH
X-WR-CALNAME:Lake Wapogasset Lutheran Bible Camp
X-ORIGINAL-URL:https://lakewapo.org
X-WR-CALDESC:Events for Lake Wapogasset Lutheran Bible Camp
REFRESH-INTERVAL;VALUE=DURATION:PT1H
X-Robots-Tag:noindex
X-PUBLISHED-TTL:PT1H
BEGIN:VTIMEZONE
TZID:America/Chicago
BEGIN:DAYLIGHT
TZOFFSETFROM:-0600
TZOFFSETTO:-0500
TZNAME:CDT
DTSTART:20230312T080000
END:DAYLIGHT
BEGIN:STANDARD
TZOFFSETFROM:-0500
TZOFFSETTO:-0600
TZNAME:CST
DTSTART:20231105T070000
END:STANDARD
BEGIN:DAYLIGHT
TZOFFSETFROM:-0600
TZOFFSETTO:-0500
TZNAME:CDT
DTSTART:20240310T080000
END:DAYLIGHT
BEGIN:STANDARD
TZOFFSETFROM:-0500
TZOFFSETTO:-0600
TZNAME:CST
DTSTART:20241103T070000
END:STANDARD
BEGIN:DAYLIGHT
TZOFFSETFROM:-0600
TZOFFSETTO:-0500
TZNAME:CDT
DTSTART:20250309T080000
END:DAYLIGHT
BEGIN:STANDARD
TZOFFSETFROM:-0500
TZOFFSETTO:-0600
TZNAME:CST
DTSTART:20251102T070000
END:STANDARD
END:VTIMEZONE
BEGIN:VEVENT
DTSTART;TZID=America/Chicago:20240201T170000
DTEND;TZID=America/Chicago:20240204T120000
DTSTAMP:20260425T110858
CREATED:20231128T181409Z
LAST-MODIFIED:20231128T182952Z
UID:23345-1706806800-1707048000@lakewapo.org
SUMMARY:WCB 2024 Men's Retreat
DESCRIPTION:Enjoy the opportunity to explore the wilderness in the winter.  Activities available include skiing\, snowshoeing\, broomball\, quinzee-building\, and of course\, plenty of time to spend inside our cozy cabins next to the fireplace! \nLearn more & Register Here
URL:https://lakewapo.org/event/wcb-2024-mens-retreat/
LOCATION:MN
CATEGORIES:Wilderness Canoe Base
ATTACH;FMTTYPE=image/jpeg:https://lakewapo.org/wp-content/uploads/2020/10/Featured-Photos-for-Wordpress-5.jpg
END:VEVENT
END:VCALENDAR