BEGIN:VCALENDAR
VERSION:2.0
PRODID:-//Lake Wapogasset Lutheran Bible Camp - ECPv6.15.20//NONSGML v1.0//EN
CALSCALE:GREGORIAN
METHOD:PUBLISH
X-WR-CALNAME:Lake Wapogasset Lutheran Bible Camp
X-ORIGINAL-URL:https://lakewapo.org
X-WR-CALDESC:Events for Lake Wapogasset Lutheran Bible Camp
REFRESH-INTERVAL;VALUE=DURATION:PT1H
X-Robots-Tag:noindex
X-PUBLISHED-TTL:PT1H
BEGIN:VTIMEZONE
TZID:America/Chicago
BEGIN:DAYLIGHT
TZOFFSETFROM:-0600
TZOFFSETTO:-0500
TZNAME:CDT
DTSTART:20240310T080000
END:DAYLIGHT
BEGIN:STANDARD
TZOFFSETFROM:-0500
TZOFFSETTO:-0600
TZNAME:CST
DTSTART:20241103T070000
END:STANDARD
BEGIN:DAYLIGHT
TZOFFSETFROM:-0600
TZOFFSETTO:-0500
TZNAME:CDT
DTSTART:20250309T080000
END:DAYLIGHT
BEGIN:STANDARD
TZOFFSETFROM:-0500
TZOFFSETTO:-0600
TZNAME:CST
DTSTART:20251102T070000
END:STANDARD
BEGIN:DAYLIGHT
TZOFFSETFROM:-0600
TZOFFSETTO:-0500
TZNAME:CDT
DTSTART:20260308T080000
END:DAYLIGHT
BEGIN:STANDARD
TZOFFSETFROM:-0500
TZOFFSETTO:-0600
TZNAME:CST
DTSTART:20261101T070000
END:STANDARD
END:VTIMEZONE
BEGIN:VEVENT
DTSTART;TZID=America/Chicago:20250116T170000
DTEND;TZID=America/Chicago:20250116T190000
DTSTAMP:20260424T144129
CREATED:20241230T182710Z
LAST-MODIFIED:20241230T183153Z
UID:26351-1737046800-1737054000@lakewapo.org
SUMMARY:Alumni Happy Hour
DESCRIPTION:Broken Clock Brewing\n1712 Marshall St NE Suite 100\nMinneapolis MN \nReady for some camp magic all over again? Grab your camp crew or come meet new friends who know what it’s like to have the best. summer. job. ever! Let’s gather for some fun\, laughter\, and plenty of camp memories!
URL:https://lakewapo.org/event/alumni-happy-hour/
LOCATION:Broken Clock Brewing\, 1712 Marshall St NE Suite 100\, Minneapolis\, MN\, 55413
CATEGORIES:Camp Wapo,Ox Lake
ATTACH;FMTTYPE=image/png:https://lakewapo.org/wp-content/uploads/2022/05/LWLBC-Logo-Primary-Mark.png
END:VEVENT
END:VCALENDAR