BEGIN:VCALENDAR
VERSION:2.0
PRODID:-//Lake Wapogasset Lutheran Bible Camp - ECPv6.15.20//NONSGML v1.0//EN
CALSCALE:GREGORIAN
METHOD:PUBLISH
X-ORIGINAL-URL:https://lakewapo.org
X-WR-CALDESC:Events for Lake Wapogasset Lutheran Bible Camp
REFRESH-INTERVAL;VALUE=DURATION:PT1H
X-Robots-Tag:noindex
X-PUBLISHED-TTL:PT1H
BEGIN:VTIMEZONE
TZID:America/Chicago
BEGIN:DAYLIGHT
TZOFFSETFROM:-0600
TZOFFSETTO:-0500
TZNAME:CDT
DTSTART:20240310T080000
END:DAYLIGHT
BEGIN:STANDARD
TZOFFSETFROM:-0500
TZOFFSETTO:-0600
TZNAME:CST
DTSTART:20241103T070000
END:STANDARD
BEGIN:DAYLIGHT
TZOFFSETFROM:-0600
TZOFFSETTO:-0500
TZNAME:CDT
DTSTART:20250309T080000
END:DAYLIGHT
BEGIN:STANDARD
TZOFFSETFROM:-0500
TZOFFSETTO:-0600
TZNAME:CST
DTSTART:20251102T070000
END:STANDARD
BEGIN:DAYLIGHT
TZOFFSETFROM:-0600
TZOFFSETTO:-0500
TZNAME:CDT
DTSTART:20260308T080000
END:DAYLIGHT
BEGIN:STANDARD
TZOFFSETFROM:-0500
TZOFFSETTO:-0600
TZNAME:CST
DTSTART:20261101T070000
END:STANDARD
END:VTIMEZONE
BEGIN:VEVENT
DTSTART;TZID=America/Chicago:20250515T170000
DTEND;TZID=America/Chicago:20250515T190000
DTSTAMP:20260424T071752
CREATED:20241230T183942Z
LAST-MODIFIED:20250506T210619Z
UID:26371-1747328400-1747335600@lakewapo.org
SUMMARY:Alumni Happy Hour
DESCRIPTION:Forgotten Star Brewing Co\n38 Northern Stacks Dr\nFridley MN \nBecause it’s our last happy hour of this series we’re going big! We have a room reserved for our group…we have a giveaway for everyone\, a drawing for a special prize\, PIZZA\, probably some games\, and an update on our building project at Wapo. \nBring yourself\, a friend\, your family…this event is not limited to staff alumni…if you love camp – it’s for you! Look for our tabletop display! \nTo help us know how much pizza to order\, RSVP here. If you decide to come later and didn’t rsvp – no worries! We’ll order more!
URL:https://lakewapo.org/event/alumni-happy-hour-2-2-2-2/
LOCATION:Forgotten Star Brewing Co.\, 38 Northern Stacks Dr\, Fridley\, MN\, 55421
CATEGORIES:Camp Wapo,Ox Lake
ATTACH;FMTTYPE=image/png:https://lakewapo.org/wp-content/uploads/2024/12/HEADER.png
END:VEVENT
END:VCALENDAR