BEGIN:VCALENDAR
VERSION:2.0
PRODID:-//Lake Wapogasset Lutheran Bible Camp - ECPv6.15.20//NONSGML v1.0//EN
CALSCALE:GREGORIAN
METHOD:PUBLISH
X-WR-CALNAME:Lake Wapogasset Lutheran Bible Camp
X-ORIGINAL-URL:https://lakewapo.org
X-WR-CALDESC:Events for Lake Wapogasset Lutheran Bible Camp
REFRESH-INTERVAL;VALUE=DURATION:PT1H
X-Robots-Tag:noindex
X-PUBLISHED-TTL:PT1H
BEGIN:VTIMEZONE
TZID:America/Chicago
BEGIN:DAYLIGHT
TZOFFSETFROM:-0600
TZOFFSETTO:-0500
TZNAME:CDT
DTSTART:20250309T080000
END:DAYLIGHT
BEGIN:STANDARD
TZOFFSETFROM:-0500
TZOFFSETTO:-0600
TZNAME:CST
DTSTART:20251102T070000
END:STANDARD
BEGIN:DAYLIGHT
TZOFFSETFROM:-0600
TZOFFSETTO:-0500
TZNAME:CDT
DTSTART:20260308T080000
END:DAYLIGHT
BEGIN:STANDARD
TZOFFSETFROM:-0500
TZOFFSETTO:-0600
TZNAME:CST
DTSTART:20261101T070000
END:STANDARD
BEGIN:DAYLIGHT
TZOFFSETFROM:-0600
TZOFFSETTO:-0500
TZNAME:CDT
DTSTART:20270314T080000
END:DAYLIGHT
BEGIN:STANDARD
TZOFFSETFROM:-0500
TZOFFSETTO:-0600
TZNAME:CST
DTSTART:20271107T070000
END:STANDARD
END:VTIMEZONE
BEGIN:VEVENT
DTSTART;TZID=America/Chicago:20261012T130000
DTEND;TZID=America/Chicago:20261015T130000
DTSTAMP:20260425T055631
CREATED:20201208T160814Z
LAST-MODIFIED:20260313T185206Z
UID:14231-1791810000-1792069200@lakewapo.org
SUMMARY:Wapo Fall Quilt Retreat
DESCRIPTION:The Cross Fire Center at Camp Wapo is the perfect place for quilters to create beautiful masterpieces. We guarantee good fun\, quality quilting time\, lots of laughs\, and the opportunity to learn from each other. Grab a crafty friend\, sister\, or mom and you’ll be sure to have a blast! Bring your machine\, lots of projects\, and sewing gear. Camp will provide comfortable accommodations\, meals cooked with care\, quilting tables\, ironing boards\, and cutting tables.
URL:https://lakewapo.org/event/http-lwlbci-com-wapofallquiltretreat/
LOCATION:Camp Wapo\, 1204 74th Ave\, Amery\, WI\, 54001\, United States
CATEGORIES:Camp Wapo
ATTACH;FMTTYPE=image/jpeg:https://lakewapo.org/wp-content/uploads/2020/12/wapo-program-quilt-retreat.jpg
ORGANIZER;CN="Camp Wapo":MAILTO:ryanb@campwapo.org
END:VEVENT
BEGIN:VEVENT
DTSTART;TZID=America/Chicago:20261023T190000
DTEND;TZID=America/Chicago:20261025T190000
DTSTAMP:20260425T055631
CREATED:20230803T212514Z
LAST-MODIFIED:20260417T202259Z
UID:22840-1792782000-1792954800@lakewapo.org
SUMMARY:Encounter Youth Retreat
DESCRIPTION:Dates:  October 23-25\, 2026 \n\n\nSite: Camp Wapo\nAges: Current grades 6-9\nCost: $170 for youth\, $100 for adult mentors \n“And I pray that you\, being rooted and established in love\, may have power\, together with all the Lord’s holy people\, to grasp how wide and long and high and deep is the love of Christ.” – Ephesians 3:17-19 \nEncounter is a fully programmed retreat and can accommodate lots of different groups together in one retreat. Encounter is designed for Youth Workers to bring their youth group out to camp and not have to worry about leading program. Groups will provide their own cabin chaperones for this retreat. Your group will have lots of time to explore how wide\, long\, high and deep is the love of Christ for us. Together we’ll discover how we are called to live this out in our world today. \nCheck-in is on Friday from 7:00 to 8:00 pm. \nClosing worship is on Sunday at 11:00 am. \n\n\n\n\n*Encounter is for Church/Youth groups.  \nChurches/Groups call the camp office to book spots 715.268.8434 \nClick here for more information – Encounter 2026
URL:https://lakewapo.org/event/encounter-youth-retreat-2023/
LOCATION:Camp Wapo\, 1204 74th Ave\, Amery\, WI\, 54001\, United States
CATEGORIES:Camp Wapo
ATTACH;FMTTYPE=image/jpeg:https://lakewapo.org/wp-content/uploads/2020/12/wapo-program-encounter.jpg
ORGANIZER;CN="Camp Wapo":MAILTO:ryanb@campwapo.org
END:VEVENT
END:VCALENDAR