BEGIN:VCALENDAR
VERSION:2.0
PRODID:-//Lake Wapogasset Lutheran Bible Camp - ECPv6.15.20//NONSGML v1.0//EN
CALSCALE:GREGORIAN
METHOD:PUBLISH
X-ORIGINAL-URL:https://lakewapo.org
X-WR-CALDESC:Events for Lake Wapogasset Lutheran Bible Camp
REFRESH-INTERVAL;VALUE=DURATION:PT1H
X-Robots-Tag:noindex
X-PUBLISHED-TTL:PT1H
BEGIN:VTIMEZONE
TZID:America/Chicago
BEGIN:DAYLIGHT
TZOFFSETFROM:-0600
TZOFFSETTO:-0500
TZNAME:CDT
DTSTART:20240310T080000
END:DAYLIGHT
BEGIN:STANDARD
TZOFFSETFROM:-0500
TZOFFSETTO:-0600
TZNAME:CST
DTSTART:20241103T070000
END:STANDARD
BEGIN:DAYLIGHT
TZOFFSETFROM:-0600
TZOFFSETTO:-0500
TZNAME:CDT
DTSTART:20250309T080000
END:DAYLIGHT
BEGIN:STANDARD
TZOFFSETFROM:-0500
TZOFFSETTO:-0600
TZNAME:CST
DTSTART:20251102T070000
END:STANDARD
BEGIN:DAYLIGHT
TZOFFSETFROM:-0600
TZOFFSETTO:-0500
TZNAME:CDT
DTSTART:20260308T080000
END:DAYLIGHT
BEGIN:STANDARD
TZOFFSETFROM:-0500
TZOFFSETTO:-0600
TZNAME:CST
DTSTART:20261101T070000
END:STANDARD
BEGIN:DAYLIGHT
TZOFFSETFROM:-0600
TZOFFSETTO:-0500
TZNAME:CDT
DTSTART:20270314T080000
END:DAYLIGHT
BEGIN:STANDARD
TZOFFSETFROM:-0500
TZOFFSETTO:-0600
TZNAME:CST
DTSTART:20271107T070000
END:STANDARD
END:VTIMEZONE
BEGIN:VEVENT
DTSTART;TZID=America/Chicago:20251010T180000
DTEND;TZID=America/Chicago:20251012T120000
DTSTAMP:20260425T085011
CREATED:20231119T174021Z
LAST-MODIFIED:20250609T200202Z
UID:23325-1760119200-1760270400@lakewapo.org
SUMMARY:High School Leadership Retreat 2025
DESCRIPTION:Site: Camp Wapo\nAges: Current grades 9-12 \n“Don’t burn out; keep yourselves fueled and aflame. Be alert servants of the Master\, cheerfully expectant.” – Romans 12:11 \nThe High School Leadership Program at Camp Wapo is designed to empower young leaders by building essential skills in communication\, teamwork\, and personal growth. Over the course of this weekend\, students engage in a variety of activities that foster leadership development\, including group challenges and reflective discussions. They also hear from inspiring speakers who share insights on leadership\, service\, and making a positive impact. Participants will leave the program not only with enhanced leadership abilities but also with a deeper sense of purpose and connection to their peers and faith. \nCheck-in is on Friday from 7:00pm to 8:00pm. \nCheck-out is on Sunday at 11:00 am. \nClick Here for more information
URL:https://lakewapo.org/event/wapo-high-school-retreat-2024/
LOCATION:Camp Wapo\, 1204 74th Ave\, Amery\, WI\, 54001\, United States
CATEGORIES:Camp Wapo
ATTACH;FMTTYPE=image/jpeg:https://lakewapo.org/wp-content/uploads/2024/01/Wapo-Roots-scaled.jpg
ORGANIZER;CN="Camp Wapo":MAILTO:ryanb@campwapo.org
END:VEVENT
BEGIN:VEVENT
DTSTART;TZID=America/Chicago:20251204T160000
DTEND;TZID=America/Chicago:20251214T220000
DTSTAMP:20260425T085011
CREATED:20251016T192516Z
LAST-MODIFIED:20251204T222823Z
UID:28409-1764864000-1765749600@lakewapo.org
SUMMARY:Wapo Christmas Dinner Theater
DESCRIPTION:“STAR” (by Brian Walter\, Annie Herring & Daniel Perrin) is a smart\, Scripture-faithful musical that reimagines the Magi’s journey with wit\, nuance\, and a few delightful twists – accuracy where Scripture speaks; imagination where it’s silent. Follow these seekers from the East as a reappearing star leads them to unexpected joy and the newborn King. Thoughtful\, funny\, and deeply rooted in the Christmas story. \nThe hors d’ oeuvres course will start 45 minutes before showtime. Please arrive anytime in that 45 minute window. The performance will start at the times listed below.  \nThursday Dec 4 – 6:00pm FULL\nFriday Dec 5 – 6:00pm FULL\nSaturday Dec 6 – 5:00pm FULL\nSunday Dec 7 – 4:00pm (only 2 seats available)\nThursday Dec 11 – 6:00pm FULL\nFriday Dec 12 – 6:00pm (only 4 seats available)\nSaturday Dec 13 – 5:00pm FULL\nSunday Dec 14 – 4:00pm (only 1 seat available) \nTickets will go on sale to the public on October 22. You will find the link to purchase tickets here. \nQuestions? Call 715-268-8434 or email nataliep@campwapo.org \nWe depend on over 100 volunteers to make the magic happen! Click here if you would learn how you could volunteer! \nOnline registration will appear here on October 22. If you prefer a paper form you can download one here.
URL:https://lakewapo.org/event/wapo-christmas-dinner-theater-3/
LOCATION:Camp Wapo\, 1204 74th Ave\, Amery\, WI\, 54001\, United States
CATEGORIES:Camp Wapo
ATTACH;FMTTYPE=image/png:https://lakewapo.org/wp-content/uploads/2025/10/website-logo.png
END:VEVENT
BEGIN:VEVENT
DTSTART;TZID=America/Chicago:20260223T130000
DTEND;TZID=America/Chicago:20260226T130000
DTSTAMP:20260425T085011
CREATED:20201201T173255Z
LAST-MODIFIED:20251222T181633Z
UID:1014-1771851600-1772110800@lakewapo.org
SUMMARY:Wapo Spring Quilt Retreat
DESCRIPTION:﻿The Cross Fire Center at Camp Wapo is the perfect place for quilters to create beautiful masterpieces. We guarantee good fun\, quality quilting time\, lots of laughs\, and the opportunity to learn from each other. Grab a crafty friend\, sister\, or mom and you’ll be sure to have a blast! Bring your machine\, lots of projects\, and sewing gear. Camp will provide comfortable accommodations\, meals cooked with care\, quilting tables\, ironing boards\, and cutting tables.
URL:https://lakewapo.org/event/wapo-quilt-retreat-spring/
LOCATION:Camp Wapo\, 1204 74th Ave\, Amery\, WI\, 54001\, United States
CATEGORIES:Camp Wapo
ATTACH;FMTTYPE=image/jpeg:https://lakewapo.org/wp-content/uploads/2020/12/wapo-program-quilt-retreat.jpg
ORGANIZER;CN="Camp Wapo":MAILTO:ryanb@campwapo.org
END:VEVENT
BEGIN:VEVENT
DTSTART;TZID=America/Chicago:20260227T190000
DTEND;TZID=America/Chicago:20260301T130000
DTSTAMP:20260425T085011
CREATED:20230329T211444Z
LAST-MODIFIED:20250930T220857Z
UID:21704-1772218800-1772370000@lakewapo.org
SUMMARY:Renew: Wapo Women's Retreat
DESCRIPTION:Bring a group of your friends or come ready to make some new ones. This retreat is designed to offer space to renew your spirit. Maybe that means some shopping at the many Amery area boutiques and antique stores\, relaxing with a good book\, hiking or snowshoeing (bring your own) the beautiful trails at Ox Lake\, or enjoying a challenging jigsaw puzzle.  All of this is in addition to time spent in bible study and other sessions. Your soul will be fed and renewed during the Wapo Women’s Retreat. \nLearn more and register here.
URL:https://lakewapo.org/event/wapo-womens-retreat-2/
LOCATION:Camp Wapo\, 1204 74th Ave\, Amery\, WI\, 54001\, United States
CATEGORIES:Camp Wapo
ATTACH;FMTTYPE=image/png:https://lakewapo.org/wp-content/uploads/2025/09/Renew-Refresh-2025-3.png
END:VEVENT
BEGIN:VEVENT
DTSTART;TZID=America/Chicago:20260524T092000
DTEND;TZID=America/Chicago:20260906T102000
DTSTAMP:20260425T085011
CREATED:20260424T203614Z
LAST-MODIFIED:20260424T203621Z
UID:29379-1779614400-1788690000@lakewapo.org
SUMMARY:Boat-in Worship
DESCRIPTION:Join us for lakeside worship on Sundays at 9:20am\, May 24-September 6.\nCome as you are – by boat\, bike\, foot\, or car. Bring your family\, friends\, and neighbors – there’s a place for everyone here. \nCoffee and treats will be ready before and during worship. Seating is provided\, or you can bring a lawn chair and settle in. We celebrate communion most Sundays and will pass an offering basket. \nGifts from Boat-In Worship help sustain this ministry and provide scholarships to those who need assistance. \nThere’s something special about gathering by the lake as a community – we’d love to have you be part of it this summer.
URL:https://lakewapo.org/event/boat-in-worship-17-2/
LOCATION:Camp Wapo\, 1204 74th Ave\, Amery\, WI\, 54001\, United States
CATEGORIES:Camp Wapo
ATTACH;FMTTYPE=image/jpeg:https://lakewapo.org/wp-content/uploads/2025/04/Boat-in-worship-2.jpg
END:VEVENT
BEGIN:VEVENT
DTSTART;TZID=America/Chicago:20260525T080000
DTEND;TZID=America/Chicago:20260525T120000
DTSTAMP:20260425T085011
CREATED:20250324T181736Z
LAST-MODIFIED:20260417T201152Z
UID:26701-1779696000-1779710400@lakewapo.org
SUMMARY:Memorial Day Pancake Extravaganza
DESCRIPTION:Let’s kick off summer together at the Camp Wapo Memorial Day Pancake Extravaganza!  Enjoy classic buttermilk pancakes\, delightfully thin Finnish pancakes\,  buttery pannenkoeken\, and blueberry french toast bake. Load up with toppings\, real maple syrup\, sausage\, fruit\, yogurt\, granola\, and beverages! \nWe’ll be serving from 8:00-noon and no RSVP is needed. We have lots of indoor seating and if the weather is nice there is lots of outdoor seating too. \nThe Wapo camp store will be open (including a sale rack) so you can stock up on all your Wapo wear. Grab your family\, friends and neighbors and come on out for the best pancake breakfast around. \nCost: Freewill offering \nQuestions: 715-268-8434 or email campwapo@campwapo.org \n 
URL:https://lakewapo.org/event/memorial-day-pancake-extravaganza-4-2/
LOCATION:Camp Wapo\, 1204 74th Ave\, Amery\, WI\, 54001\, United States
CATEGORIES:Camp Wapo
ATTACH;FMTTYPE=image/png:https://lakewapo.org/wp-content/uploads/2024/04/website-event.png
END:VEVENT
BEGIN:VEVENT
DTSTART;TZID=America/Chicago:20260604T183000
DTEND;TZID=America/Chicago:20260604T200000
DTSTAMP:20260425T085011
CREATED:20260420T211621Z
LAST-MODIFIED:20260420T211734Z
UID:29305-1780597800-1780603200@lakewapo.org
SUMMARY:2026 Staff Commissioning
DESCRIPTION:2026 Summer Staff Commissioning Service\n\nI know its hard to believe but summer is right around the corner\, and that means a new group of summer staff is preparing to step into one of the most meaningful roles they’ll ever have.\n\nWe invite you to join us for our Summer Staff Commissioning Service – a time to gather as a community\, surround our staff with prayer\, and send them into the summer grounded in encouragement and support. These young leaders will spend their days creating spaces where campers feel known\, connected\, and deeply loved. They don’t do that on their own – they do it with a whole community behind them.\n\nThat’s where you come in. Your prayers and support matter.\n\nAll the details can be found here.  Help us spread the word…everyone is welcome!\n\nThursday\, June 4 at 6:30pm\nEaster Lutheran Church\n4545 Pilot Knob Rd\nEagan MN 55122 \n\nTo help us in our planning\, please RSVP using this link.
URL:https://lakewapo.org/event/2026-staff-commissioning/
LOCATION:Easter Lutheran Church\, 4545 Pilot Knob Rd\, Eagan\, MN\, 55122\, United States
CATEGORIES:Camp Wapo,Ox Lake
ATTACH;FMTTYPE=image/jpeg:https://lakewapo.org/wp-content/uploads/2025/08/DSC05814-scaled.jpg
END:VEVENT
BEGIN:VEVENT
DTSTART;TZID=America/Chicago:20260713T120000
DTEND;TZID=America/Chicago:20260713T190000
DTSTAMP:20260425T085011
CREATED:20260412T180529Z
LAST-MODIFIED:20260423T200837Z
UID:29287-1783944000-1783969200@lakewapo.org
SUMMARY:Wapo Golf Tournament
DESCRIPTION:July 13\, 2026\nIt’s the 24th year of the Camp Wapo Hackers and Whackers Golf Scramble!  It’s time to put your foursome together and get warmed up for this annual event. Get ready for some serious fun – raising money for camper scholarships and summer programs. Your $120 registration fee includes: \n\na delicious lunch and supper\n2 free mulligans\n20ft of “string-aid”\n18 holes of golf and a cart\nfun hole contests with prizes\n\nAt check-in you can also purchase raffle tickets (3 for $20\, or $10 each) for awesome prizes. \n12:00-12:45  Check-in and Lunch (Come anytime between 12 and 12:45 for lunch\, check-in\, buy raffle tickets\, hit range balls $\, putting green\, etc.) \n1:00  Shotgun start \n5:30 Dinner & Awards \nRegister online here \nDownload a registration form here. \nIf you have any questions about your team’s registration status\, please email jenh@campwapo.org or call 715-554-7175. \n 
URL:https://lakewapo.org/event/wapogolf-3/
LOCATION:Amery Golf Club\, 601 Deronda St\, Amery\, WI\, 54001\, United States
CATEGORIES:Camp Wapo
ATTACH;FMTTYPE=image/jpeg:https://lakewapo.org/wp-content/uploads/2025/03/451431470_893847359429164_2197628350911123098_n.jpg
ORGANIZER;CN="Camp Wapo":MAILTO:ryanb@campwapo.org
END:VEVENT
BEGIN:VEVENT
DTSTART;TZID=America/Chicago:20260910T150000
DTEND;TZID=America/Chicago:20260913T110000
DTSTAMP:20260425T085011
CREATED:20210507T224550Z
LAST-MODIFIED:20260313T191539Z
UID:15983-1789052400-1789297200@lakewapo.org
SUMMARY:Women's Wilderness Adventure 2026
DESCRIPTION:Join our longest-standing retreat and get away for a weekend with other wilderness women! This group of women explores\, creates\, and socializes together\, and spends significant time enjoying the company of one another throughout the weekend.  Whether you have been to Wilderness Canoe Base many times or never at all\, this is a great opportunity to be invited into an incredible community of wilderness women. Activity options include First and Last Word\, community meals\, guided and self-guided nature hikes\, swimming\, Voyageur canoe paddles\, guided canoe trips into the Boundary Waters Canoe Area Wilderness\, excursions to local off-site hiking trails\, and more. More details can be found here. \nPlease email wcboffice@campwapo.org or call (218) 388-2241 with questions about this event. \nClick here to register! \n 
URL:https://lakewapo.org/event/womens-wilderness-adventure-2021/
LOCATION:Wilderness Canoe Base\, 12477 Gunflint Trail\, Grand Marais\, MN\, 55604\, United States
CATEGORIES:Camp Wapo,Ox Lake,Wilderness Canoe Base
ATTACH;FMTTYPE=image/jpeg:https://lakewapo.org/wp-content/uploads/2021/05/WWA-website.jpg
ORGANIZER;CN="Wilderness Canoe Base":MAILTO:wcboffice@campwapo.org
END:VEVENT
BEGIN:VEVENT
DTSTART;TZID=America/Chicago:20261012T130000
DTEND;TZID=America/Chicago:20261015T130000
DTSTAMP:20260425T085011
CREATED:20201208T160814Z
LAST-MODIFIED:20260313T185206Z
UID:14231-1791810000-1792069200@lakewapo.org
SUMMARY:Wapo Fall Quilt Retreat
DESCRIPTION:The Cross Fire Center at Camp Wapo is the perfect place for quilters to create beautiful masterpieces. We guarantee good fun\, quality quilting time\, lots of laughs\, and the opportunity to learn from each other. Grab a crafty friend\, sister\, or mom and you’ll be sure to have a blast! Bring your machine\, lots of projects\, and sewing gear. Camp will provide comfortable accommodations\, meals cooked with care\, quilting tables\, ironing boards\, and cutting tables.
URL:https://lakewapo.org/event/http-lwlbci-com-wapofallquiltretreat/
LOCATION:Camp Wapo\, 1204 74th Ave\, Amery\, WI\, 54001\, United States
CATEGORIES:Camp Wapo
ATTACH;FMTTYPE=image/jpeg:https://lakewapo.org/wp-content/uploads/2020/12/wapo-program-quilt-retreat.jpg
ORGANIZER;CN="Camp Wapo":MAILTO:ryanb@campwapo.org
END:VEVENT
BEGIN:VEVENT
DTSTART;TZID=America/Chicago:20261023T190000
DTEND;TZID=America/Chicago:20261025T190000
DTSTAMP:20260425T085011
CREATED:20230803T212514Z
LAST-MODIFIED:20260417T202259Z
UID:22840-1792782000-1792954800@lakewapo.org
SUMMARY:Encounter Youth Retreat
DESCRIPTION:Dates:  October 23-25\, 2026 \n\n\nSite: Camp Wapo\nAges: Current grades 6-9\nCost: $170 for youth\, $100 for adult mentors \n“And I pray that you\, being rooted and established in love\, may have power\, together with all the Lord’s holy people\, to grasp how wide and long and high and deep is the love of Christ.” – Ephesians 3:17-19 \nEncounter is a fully programmed retreat and can accommodate lots of different groups together in one retreat. Encounter is designed for Youth Workers to bring their youth group out to camp and not have to worry about leading program. Groups will provide their own cabin chaperones for this retreat. Your group will have lots of time to explore how wide\, long\, high and deep is the love of Christ for us. Together we’ll discover how we are called to live this out in our world today. \nCheck-in is on Friday from 7:00 to 8:00 pm. \nClosing worship is on Sunday at 11:00 am. \n\n\n\n\n*Encounter is for Church/Youth groups.  \nChurches/Groups call the camp office to book spots 715.268.8434 \nClick here for more information – Encounter 2026
URL:https://lakewapo.org/event/encounter-youth-retreat-2023/
LOCATION:Camp Wapo\, 1204 74th Ave\, Amery\, WI\, 54001\, United States
CATEGORIES:Camp Wapo
ATTACH;FMTTYPE=image/jpeg:https://lakewapo.org/wp-content/uploads/2020/12/wapo-program-encounter.jpg
ORGANIZER;CN="Camp Wapo":MAILTO:ryanb@campwapo.org
END:VEVENT
END:VCALENDAR