BEGIN:VCALENDAR
VERSION:2.0
PRODID:-//Lake Wapogasset Lutheran Bible Camp - ECPv6.15.20//NONSGML v1.0//EN
CALSCALE:GREGORIAN
METHOD:PUBLISH
X-WR-CALNAME:Lake Wapogasset Lutheran Bible Camp
X-ORIGINAL-URL:https://lakewapo.org
X-WR-CALDESC:Events for Lake Wapogasset Lutheran Bible Camp
REFRESH-INTERVAL;VALUE=DURATION:PT1H
X-Robots-Tag:noindex
X-PUBLISHED-TTL:PT1H
BEGIN:VTIMEZONE
TZID:America/Chicago
BEGIN:DAYLIGHT
TZOFFSETFROM:-0600
TZOFFSETTO:-0500
TZNAME:CDT
DTSTART:20250309T080000
END:DAYLIGHT
BEGIN:STANDARD
TZOFFSETFROM:-0500
TZOFFSETTO:-0600
TZNAME:CST
DTSTART:20251102T070000
END:STANDARD
BEGIN:DAYLIGHT
TZOFFSETFROM:-0600
TZOFFSETTO:-0500
TZNAME:CDT
DTSTART:20260308T080000
END:DAYLIGHT
BEGIN:STANDARD
TZOFFSETFROM:-0500
TZOFFSETTO:-0600
TZNAME:CST
DTSTART:20261101T070000
END:STANDARD
BEGIN:DAYLIGHT
TZOFFSETFROM:-0600
TZOFFSETTO:-0500
TZNAME:CDT
DTSTART:20270314T080000
END:DAYLIGHT
BEGIN:STANDARD
TZOFFSETFROM:-0500
TZOFFSETTO:-0600
TZNAME:CST
DTSTART:20271107T070000
END:STANDARD
END:VTIMEZONE
BEGIN:VEVENT
DTSTART;TZID=America/Chicago:20260525T080000
DTEND;TZID=America/Chicago:20260525T120000
DTSTAMP:20260423T124930
CREATED:20250324T181736Z
LAST-MODIFIED:20260417T201152Z
UID:26701-1779696000-1779710400@lakewapo.org
SUMMARY:Memorial Day Pancake Extravaganza
DESCRIPTION:Let’s kick off summer together at the Camp Wapo Memorial Day Pancake Extravaganza!  Enjoy classic buttermilk pancakes\, delightfully thin Finnish pancakes\,  buttery pannenkoeken\, and blueberry french toast bake. Load up with toppings\, real maple syrup\, sausage\, fruit\, yogurt\, granola\, and beverages! \nWe’ll be serving from 8:00-noon and no RSVP is needed. We have lots of indoor seating and if the weather is nice there is lots of outdoor seating too. \nThe Wapo camp store will be open (including a sale rack) so you can stock up on all your Wapo wear. Grab your family\, friends and neighbors and come on out for the best pancake breakfast around. \nCost: Freewill offering \nQuestions: 715-268-8434 or email campwapo@campwapo.org \n 
URL:https://lakewapo.org/event/memorial-day-pancake-extravaganza-4-2/
LOCATION:Camp Wapo\, 1204 74th Ave\, Amery\, WI\, 54001\, United States
CATEGORIES:Camp Wapo
ATTACH;FMTTYPE=image/png:https://lakewapo.org/wp-content/uploads/2024/04/website-event.png
END:VEVENT
END:VCALENDAR