BEGIN:VCALENDAR
VERSION:2.0
PRODID:-//Lake Wapogasset Lutheran Bible Camp - ECPv6.15.20//NONSGML v1.0//EN
CALSCALE:GREGORIAN
METHOD:PUBLISH
X-ORIGINAL-URL:https://lakewapo.org
X-WR-CALDESC:Events for Lake Wapogasset Lutheran Bible Camp
REFRESH-INTERVAL;VALUE=DURATION:PT1H
X-Robots-Tag:noindex
X-PUBLISHED-TTL:PT1H
BEGIN:VTIMEZONE
TZID:America/Chicago
BEGIN:DAYLIGHT
TZOFFSETFROM:-0600
TZOFFSETTO:-0500
TZNAME:CDT
DTSTART:20240310T080000
END:DAYLIGHT
BEGIN:STANDARD
TZOFFSETFROM:-0500
TZOFFSETTO:-0600
TZNAME:CST
DTSTART:20241103T070000
END:STANDARD
BEGIN:DAYLIGHT
TZOFFSETFROM:-0600
TZOFFSETTO:-0500
TZNAME:CDT
DTSTART:20250309T080000
END:DAYLIGHT
BEGIN:STANDARD
TZOFFSETFROM:-0500
TZOFFSETTO:-0600
TZNAME:CST
DTSTART:20251102T070000
END:STANDARD
BEGIN:DAYLIGHT
TZOFFSETFROM:-0600
TZOFFSETTO:-0500
TZNAME:CDT
DTSTART:20260308T080000
END:DAYLIGHT
BEGIN:STANDARD
TZOFFSETFROM:-0500
TZOFFSETTO:-0600
TZNAME:CST
DTSTART:20261101T070000
END:STANDARD
END:VTIMEZONE
BEGIN:VEVENT
DTSTART;TZID=America/Chicago:20250525T092000
DTEND;TZID=America/Chicago:20250831T102000
DTSTAMP:20260424T072054
CREATED:20250415T215851Z
LAST-MODIFIED:20250415T222537Z
UID:26772-1748164800-1756635600@lakewapo.org
SUMMARY:Boat-in Worship
DESCRIPTION:Join us for lakeside worship on Sundays at 9:20am\, May 25-August 31.\nCome as you are by boat\, bike\, foot\, or car. Bring yourself\, your family\, your friends\, your neighbors – everyone is welcome! Coffee and treats will be served before and during worship. Seating is provided or you can bring your own lawn chair. \nCommunion is served most Sundays and an offering will be collected. Boat-in offerings support a vibrant outdoor ministry at Camp Wapo and our scholarship program for families in need. See you at Camp Wapo this summer!
URL:https://lakewapo.org/event/boat-in-worship-17/
LOCATION:Camp Wapo\, 1204 74th Ave\, Amery\, WI\, 54001\, United States
CATEGORIES:Camp Wapo
ATTACH;FMTTYPE=image/jpeg:https://lakewapo.org/wp-content/uploads/2025/04/Boat-in-worship-2.jpg
END:VEVENT
END:VCALENDAR