BEGIN:VCALENDAR
VERSION:2.0
PRODID:-//Lake Wapogasset Lutheran Bible Camp - ECPv6.15.20//NONSGML v1.0//EN
CALSCALE:GREGORIAN
METHOD:PUBLISH
X-WR-CALNAME:Lake Wapogasset Lutheran Bible Camp
X-ORIGINAL-URL:https://lakewapo.org
X-WR-CALDESC:Events for Lake Wapogasset Lutheran Bible Camp
REFRESH-INTERVAL;VALUE=DURATION:PT1H
X-Robots-Tag:noindex
X-PUBLISHED-TTL:PT1H
BEGIN:VTIMEZONE
TZID:America/Chicago
BEGIN:DAYLIGHT
TZOFFSETFROM:-0600
TZOFFSETTO:-0500
TZNAME:CDT
DTSTART:20230312T080000
END:DAYLIGHT
BEGIN:STANDARD
TZOFFSETFROM:-0500
TZOFFSETTO:-0600
TZNAME:CST
DTSTART:20231105T070000
END:STANDARD
BEGIN:DAYLIGHT
TZOFFSETFROM:-0600
TZOFFSETTO:-0500
TZNAME:CDT
DTSTART:20240310T080000
END:DAYLIGHT
BEGIN:STANDARD
TZOFFSETFROM:-0500
TZOFFSETTO:-0600
TZNAME:CST
DTSTART:20241103T070000
END:STANDARD
BEGIN:DAYLIGHT
TZOFFSETFROM:-0600
TZOFFSETTO:-0500
TZNAME:CDT
DTSTART:20250309T080000
END:DAYLIGHT
BEGIN:STANDARD
TZOFFSETFROM:-0500
TZOFFSETTO:-0600
TZNAME:CST
DTSTART:20251102T070000
END:STANDARD
END:VTIMEZONE
BEGIN:VEVENT
DTSTART;TZID=America/Chicago:20240901T092000
DTEND;TZID=America/Chicago:20240901T102000
DTSTAMP:20260424T214213
CREATED:20240520T224006Z
LAST-MODIFIED:20240520T224006Z
UID:24129-1725182400-1725186000@lakewapo.org
SUMMARY:Wapo Boat-in Worship
DESCRIPTION:Date: September 1\nTheme: Always – Pray (Matthew 6:5-8\, 1 Thess. 5:16-18)\nSpeaker: Pastor Keith Ruehlow \nWorship happens at Camp Wapo at 9:20am on Sundays during the summer. Arrive at the beach by boat\, bike\, foot\, or car! We’ll have coffee\, treats\, good fellowship\, and friends. Bring your family\, friends\, and neighbors – there is a place for you here. \nThere is seating available or you can bring your own lawn chair. No RSVP is required – just show up as you are!
URL:https://lakewapo.org/event/wapo-boat-in-worship-15/
LOCATION:Camp Wapo\, 1204 74th Ave\, Amery\, WI\, 54001\, United States
CATEGORIES:Camp Wapo
ATTACH;FMTTYPE=image/png:https://lakewapo.org/wp-content/uploads/2024/05/weekly-event-pg-Boat-in-Worship.png
END:VEVENT
END:VCALENDAR