BEGIN:VCALENDAR
VERSION:2.0
PRODID:-//Lake Wapogasset Lutheran Bible Camp - ECPv6.15.20//NONSGML v1.0//EN
CALSCALE:GREGORIAN
METHOD:PUBLISH
X-WR-CALNAME:Lake Wapogasset Lutheran Bible Camp
X-ORIGINAL-URL:https://lakewapo.org
X-WR-CALDESC:Events for Lake Wapogasset Lutheran Bible Camp
REFRESH-INTERVAL;VALUE=DURATION:PT1H
X-Robots-Tag:noindex
X-PUBLISHED-TTL:PT1H
BEGIN:VTIMEZONE
TZID:America/Chicago
BEGIN:DAYLIGHT
TZOFFSETFROM:-0600
TZOFFSETTO:-0500
TZNAME:CDT
DTSTART:20230312T080000
END:DAYLIGHT
BEGIN:STANDARD
TZOFFSETFROM:-0500
TZOFFSETTO:-0600
TZNAME:CST
DTSTART:20231105T070000
END:STANDARD
BEGIN:DAYLIGHT
TZOFFSETFROM:-0600
TZOFFSETTO:-0500
TZNAME:CDT
DTSTART:20240310T080000
END:DAYLIGHT
BEGIN:STANDARD
TZOFFSETFROM:-0500
TZOFFSETTO:-0600
TZNAME:CST
DTSTART:20241103T070000
END:STANDARD
BEGIN:DAYLIGHT
TZOFFSETFROM:-0600
TZOFFSETTO:-0500
TZNAME:CDT
DTSTART:20250309T080000
END:DAYLIGHT
BEGIN:STANDARD
TZOFFSETFROM:-0500
TZOFFSETTO:-0600
TZNAME:CST
DTSTART:20251102T070000
END:STANDARD
END:VTIMEZONE
BEGIN:VEVENT
DTSTART;VALUE=DATE:20240418
DTEND;VALUE=DATE:20240419
DTSTAMP:20260425T054944
CREATED:20240418T154230Z
LAST-MODIFIED:20240418T154230Z
UID:23947-1713398400-1713484799@lakewapo.org
SUMMARY:GiveBIG St Croix Valley
DESCRIPTION:On April 30th\, Camp Wapo will join hundreds of non-profits in the the St Croix Valley for a day of generosity! Make a gift to your favorite non-profit on April 30th and you will get the chance to earn prize grants to support the organization of your choice! Give throughout the day to earn more chances towards a prize. \nJoin the momentum of the day and giveBIG! \nLearn more about GiveBIG SCV and make your gift to Camp Wapo here.
URL:https://lakewapo.org/event/givebig-st-croix-valley-2/
LOCATION:Camp Wapo\, 1204 74th Ave\, Amery\, WI\, 54001\, United States
CATEGORIES:Camp Wapo
ATTACH;FMTTYPE=image/png:https://lakewapo.org/wp-content/uploads/2024/04/giveBIGLogoNoDate2.png
END:VEVENT
END:VCALENDAR