BEGIN:VCALENDAR
VERSION:2.0
PRODID:-//Lake Wapogasset Lutheran Bible Camp - ECPv6.15.20//NONSGML v1.0//EN
CALSCALE:GREGORIAN
METHOD:PUBLISH
X-WR-CALNAME:Lake Wapogasset Lutheran Bible Camp
X-ORIGINAL-URL:https://lakewapo.org
X-WR-CALDESC:Events for Lake Wapogasset Lutheran Bible Camp
REFRESH-INTERVAL;VALUE=DURATION:PT1H
X-Robots-Tag:noindex
X-PUBLISHED-TTL:PT1H
BEGIN:VTIMEZONE
TZID:America/Chicago
BEGIN:DAYLIGHT
TZOFFSETFROM:-0600
TZOFFSETTO:-0500
TZNAME:CDT
DTSTART:20220313T080000
END:DAYLIGHT
BEGIN:STANDARD
TZOFFSETFROM:-0500
TZOFFSETTO:-0600
TZNAME:CST
DTSTART:20221106T070000
END:STANDARD
BEGIN:DAYLIGHT
TZOFFSETFROM:-0600
TZOFFSETTO:-0500
TZNAME:CDT
DTSTART:20230312T080000
END:DAYLIGHT
BEGIN:STANDARD
TZOFFSETFROM:-0500
TZOFFSETTO:-0600
TZNAME:CST
DTSTART:20231105T070000
END:STANDARD
BEGIN:DAYLIGHT
TZOFFSETFROM:-0600
TZOFFSETTO:-0500
TZNAME:CDT
DTSTART:20240310T080000
END:DAYLIGHT
BEGIN:STANDARD
TZOFFSETFROM:-0500
TZOFFSETTO:-0600
TZNAME:CST
DTSTART:20241103T070000
END:STANDARD
END:VTIMEZONE
BEGIN:VEVENT
DTSTART;TZID=America/Chicago:20230806T092000
DTEND;TZID=America/Chicago:20230806T120000
DTSTAMP:20260425T180657
CREATED:20220302T213159Z
LAST-MODIFIED:20230804T180039Z
UID:19269-1691313600-1691323200@lakewapo.org
SUMMARY:Camp Wapo's 75th Anniversary - Bluegrass Worship with Monroe Crossing
DESCRIPTION:Camp Wapo is Celebrating 75 Years!\nSeventy-five years of creative\, vibrant\, loud\, messy\, fun\, challenging\, heartfelt ministry. All because a few people trusted in God’s faithfulness and followed the nudging of the Holy Spirit. In 1947\, the Hickory Point Resort was sold to 16 pastors for $1000 each. It was their dream to start a camp for youth and families on this beautiful peninsula site and in 1948 they welcomed their first campers. Seventy-five years later this outdoor ministry has expanded to three sites welcoming 10\,000-14\,000 guests year round. \n You are invited to join in the celebration on Sunday August 6\, 2023.We are full with RSVP’s for lunch but please feel free to come for worship! \n9:20am Gather and Fellowship coffee\, water and treats will be served. \n9:30am  Bluegrass Worship with Monroe Crossing feel free to bring your own lawn chair or seating is available. \n10:30 Bonus Music with Monroe Crossing \n11:00 Lunch  For those who previously RSVPed for lunch\, it will be served in the Dining Hall starting at 11:00. \nThe Wapo store will be open from 11:00am-1:00pm so you can stock up on Wapo gear. \n***The weather is looking to be a bit finicky for our outside worship. But no worries…we have an indoor plan in case of rain. \nOutside Plan – We’ll gather at the usual boat-in worship spot right by the beach. Feel free to park anywhere on camp. Lunch will be served in the dining hall starting at 11:00am. \nInside Plan – We’ll worship with Monroe Crossing in the CrossFire Chapel. You may want to park up by the dining hall\, by CrossFire\, or in the lot past CrossFire (by the maintenance shed). Lunch will be served in the dining hall starting at 11:00am.
URL:https://lakewapo.org/event/bluegrass-worship-with-monroe-crossing/
LOCATION:Camp Wapo\, 1204 74th Ave\, Amery\, WI\, 54001\, United States
CATEGORIES:Camp Wapo
ATTACH;FMTTYPE=image/jpeg:https://lakewapo.org/wp-content/uploads/2022/03/Monroe-Crossing2015-closeup.jpg
END:VEVENT
END:VCALENDAR