BEGIN:VCALENDAR
VERSION:2.0
PRODID:-//Lake Wapogasset Lutheran Bible Camp - ECPv6.15.20//NONSGML v1.0//EN
CALSCALE:GREGORIAN
METHOD:PUBLISH
X-WR-CALNAME:Lake Wapogasset Lutheran Bible Camp
X-ORIGINAL-URL:https://lakewapo.org
X-WR-CALDESC:Events for Lake Wapogasset Lutheran Bible Camp
REFRESH-INTERVAL;VALUE=DURATION:PT1H
X-Robots-Tag:noindex
X-PUBLISHED-TTL:PT1H
BEGIN:VTIMEZONE
TZID:America/Chicago
BEGIN:DAYLIGHT
TZOFFSETFROM:-0600
TZOFFSETTO:-0500
TZNAME:CDT
DTSTART:20230312T080000
END:DAYLIGHT
BEGIN:STANDARD
TZOFFSETFROM:-0500
TZOFFSETTO:-0600
TZNAME:CST
DTSTART:20231105T070000
END:STANDARD
BEGIN:DAYLIGHT
TZOFFSETFROM:-0600
TZOFFSETTO:-0500
TZNAME:CDT
DTSTART:20240310T080000
END:DAYLIGHT
BEGIN:STANDARD
TZOFFSETFROM:-0500
TZOFFSETTO:-0600
TZNAME:CST
DTSTART:20241103T070000
END:STANDARD
BEGIN:DAYLIGHT
TZOFFSETFROM:-0600
TZOFFSETTO:-0500
TZNAME:CDT
DTSTART:20250309T080000
END:DAYLIGHT
BEGIN:STANDARD
TZOFFSETFROM:-0500
TZOFFSETTO:-0600
TZNAME:CST
DTSTART:20251102T070000
END:STANDARD
END:VTIMEZONE
BEGIN:VEVENT
DTSTART;TZID=America/Chicago:20240707T092000
DTEND;TZID=America/Chicago:20240707T102000
DTSTAMP:20260424T232004
CREATED:20240520T222411Z
LAST-MODIFIED:20240520T222411Z
UID:24103-1720344000-1720347600@lakewapo.org
SUMMARY:Wapo Boat-in Worship
DESCRIPTION:Date: July 7\nTheme: Always – I am with you (Matthew 28:16-20\, Isaiah 41:8-10)\nSpeaker: Joel Abenth\, Director of Donor Engagement \nWorship happens at Camp Wapo at 9:20am on Sundays during the summer. Arrive at the beach by boat\, bike\, foot\, or car! We’ll have coffee\, treats\, good fellowship\, and friends. Bring your family\, friends\, and neighbors – there is a place for you here. \nThere is seating available or you can bring your own lawn chair. No RSVP is required – just show up as you are!
URL:https://lakewapo.org/event/wapo-boat-in-worship-7/
LOCATION:Camp Wapo\, 1204 74th Ave\, Amery\, WI\, 54001\, United States
CATEGORIES:Camp Wapo
ATTACH;FMTTYPE=image/png:https://lakewapo.org/wp-content/uploads/2024/05/weekly-event-pg-Boat-in-Worship.png
END:VEVENT
BEGIN:VEVENT
DTSTART;TZID=America/Chicago:20240714T092000
DTEND;TZID=America/Chicago:20240714T102000
DTSTAMP:20260424T232004
CREATED:20240520T222655Z
LAST-MODIFIED:20240520T222715Z
UID:24106-1720948800-1720952400@lakewapo.org
SUMMARY:Wapo Boat-in Worship
DESCRIPTION:Date: July 14\nTheme: Always – Test Everything (Phil: 2:1-8\, 1Thess. 5:16-21\, Ephesians 5:15-21)\nSpeaker: Nathan Lyke \nWorship happens at Camp Wapo at 9:20am on Sundays during the summer. Arrive at the beach by boat\, bike\, foot\, or car! We’ll have coffee\, treats\, good fellowship\, and friends. Bring your family\, friends\, and neighbors – there is a place for you here. \nThere is seating available or you can bring your own lawn chair. No RSVP is required – just show up as you are!
URL:https://lakewapo.org/event/wapo-boat-in-worship-8/
LOCATION:Camp Wapo\, 1204 74th Ave\, Amery\, WI\, 54001\, United States
CATEGORIES:Camp Wapo
ATTACH;FMTTYPE=image/png:https://lakewapo.org/wp-content/uploads/2024/05/weekly-event-pg-Boat-in-Worship.png
END:VEVENT
BEGIN:VEVENT
DTSTART;TZID=America/Chicago:20240715T110000
DTEND;TZID=America/Chicago:20240715T190000
DTSTAMP:20260424T232004
CREATED:20220302T215610Z
LAST-MODIFIED:20240712T192640Z
UID:19277-1721041200-1721070000@lakewapo.org
SUMMARY:Wapo Golf Tournament
DESCRIPTION:July 15\, 2024\nIt’s the 22nd year of the Camp Wapo Hackers and Whackers Golf Scramble!  It’s time to put your foursome together and get warmed up for this annual event. Get ready for some serious fun raising money for camper scholarships and summer programs. Your $100 registration fee includes a delicious lunch and supper\, 20ft of “string-aid”\, 18 holes of golf and a cart\, and some fun hole contests with prizes. At check-in you can also purchase $5 mulligans (2 per person) and raffle tickets (3 for $20\, or $10 each) for awesome prizes. \n11:00-12:15  Check-in and Lunch (Come anytime between 11 and 12:15 for lunch\, check-in\, buy raffle tickets\, hit range balls $\, putting green\, etc.) \n12:30 Shotgun start \n6:00 Dinner & Awards \nIf you have any questions about your team’s registration status\, please email jenh@campwapo.org or call 715-554-7175. \n 
URL:https://lakewapo.org/event/wapogolf/
LOCATION:Amery Golf Club\, 601 Deronda St\, Amery\, WI\, 54001\, United States
CATEGORIES:Camp Wapo
ATTACH;FMTTYPE=image/jpeg:https://lakewapo.org/wp-content/uploads/2022/03/file16-scaled.jpg
ORGANIZER;CN="Camp Wapo":MAILTO:ryanb@campwapo.org
END:VEVENT
BEGIN:VEVENT
DTSTART;TZID=America/Chicago:20240721T092000
DTEND;TZID=America/Chicago:20240721T102000
DTSTAMP:20260424T232004
CREATED:20240520T222857Z
LAST-MODIFIED:20240520T222857Z
UID:24110-1721553600-1721557200@lakewapo.org
SUMMARY:Wapo Boat-in Worship
DESCRIPTION:Date: July 21\nTheme: Always – Welcome (Romans 15:7-13)\nSpeaker: Marcia Rosa \nWorship happens at Camp Wapo at 9:20am on Sundays during the summer. Arrive at the beach by boat\, bike\, foot\, or car! We’ll have coffee\, treats\, good fellowship\, and friends. Bring your family\, friends\, and neighbors – there is a place for you here. \nThere is seating available or you can bring your own lawn chair. No RSVP is required – just show up as you are!
URL:https://lakewapo.org/event/wapo-boat-in-worship-9/
LOCATION:Camp Wapo\, 1204 74th Ave\, Amery\, WI\, 54001\, United States
CATEGORIES:Camp Wapo
ATTACH;FMTTYPE=image/png:https://lakewapo.org/wp-content/uploads/2024/05/weekly-event-pg-Boat-in-Worship.png
END:VEVENT
BEGIN:VEVENT
DTSTART;TZID=America/Chicago:20240728T092000
DTEND;TZID=America/Chicago:20240728T102000
DTSTAMP:20260424T232004
CREATED:20240520T223046Z
LAST-MODIFIED:20240724T161527Z
UID:24113-1722158400-1722162000@lakewapo.org
SUMMARY:Wapo Boat-in Worship & Donor Appreciation Event
DESCRIPTION:Date: July 28\nTheme: Always – Fuel the Spirit (Romans 8:12-28\, Isaiah 44:1-5)\nSpeaker: Pastor Adam Butler\nSpecial Musical Guests: the MN Boychoir \nDonors\, Volunteers\, Friends of Wapo\, Ox Lake and Wilderness Canoe Base…you are invited to join us for worship and a celebration lunch! \nLakeside Worship 9:20am\nPastor Adam Butler (Trinity Lutheran\, Long Lake MN) will lead us in worship with special music from the MN Boychoir.  We cherish our partnerships with the MN Boychoir and Trinity Lutheran and we are thrilled that they can join us for this special day. Seating is available or you can bring your own lawnchair. Coffee and treats will be served. Offerings collected will provide support for 2024 summer programs and camper scholarships. (rain location will be indoors) \nAppreciation Lunch\nLunch to follow worship – Thank you to those who have RSVP’d. We look forward to seeing you on Sunday!
URL:https://lakewapo.org/event/wapo-boat-in-worship-10/
LOCATION:Camp Wapo\, 1204 74th Ave\, Amery\, WI\, 54001\, United States
CATEGORIES:Camp Wapo
ATTACH;FMTTYPE=image/png:https://lakewapo.org/wp-content/uploads/2024/05/weekly-event-pg-Boat-in-Worship.png
END:VEVENT
END:VCALENDAR